BEGIN:VCALENDAR
VERSION:2.0
PRODID:-//Browns Bay - ECPv6.15.17.1//NONSGML v1.0//EN
CALSCALE:GREGORIAN
METHOD:PUBLISH
X-ORIGINAL-URL:https://brownsbay.org.nz
X-WR-CALDESC:Events for Browns Bay
REFRESH-INTERVAL;VALUE=DURATION:PT1H
X-Robots-Tag:noindex
X-PUBLISHED-TTL:PT1H
BEGIN:VTIMEZONE
TZID:Pacific/Auckland
BEGIN:STANDARD
TZOFFSETFROM:+1300
TZOFFSETTO:+1200
TZNAME:NZST
DTSTART:20240406T140000
END:STANDARD
BEGIN:DAYLIGHT
TZOFFSETFROM:+1200
TZOFFSETTO:+1300
TZNAME:NZDT
DTSTART:20240928T140000
END:DAYLIGHT
BEGIN:STANDARD
TZOFFSETFROM:+1300
TZOFFSETTO:+1200
TZNAME:NZST
DTSTART:20250405T140000
END:STANDARD
BEGIN:DAYLIGHT
TZOFFSETFROM:+1200
TZOFFSETTO:+1300
TZNAME:NZDT
DTSTART:20250927T140000
END:DAYLIGHT
BEGIN:STANDARD
TZOFFSETFROM:+1300
TZOFFSETTO:+1200
TZNAME:NZST
DTSTART:20260404T140000
END:STANDARD
BEGIN:DAYLIGHT
TZOFFSETFROM:+1200
TZOFFSETTO:+1300
TZNAME:NZDT
DTSTART:20260926T140000
END:DAYLIGHT
END:VTIMEZONE
BEGIN:VEVENT
DTSTART;TZID=Pacific/Auckland:20251114T163000
DTEND;TZID=Pacific/Auckland:20251114T203000
DTSTAMP:20260421T171446
CREATED:20250819T230316Z
LAST-MODIFIED:20250917T014854Z
UID:10593-1763137800-1763152200@brownsbay.org.nz
SUMMARY:Light Up The Plaza 2025
DESCRIPTION:Light Up The Plaza 2025\n\n\n\n\n\nChristmas starts here! Bring the kids and soak up the magic as Browns Bay lights up for the season.\n\n\n\n\n\n\n\n\nIt’s the perfect way to kick off the holiday spirit full of fun\, laughter\, and festive cheer for the whole family. \n\nEnjoy live music and entertainment\nBrowse festive craft market stalls for Christmas gifts\nWatch the giant Christmas tree light up for the very first time\nSee the children’s faces light up when Santa makes a special early season visit with treats!\n\nImportant Times:\n\nArts and crafts Christmas market stalls from 4pm\nFestive face painting from 4pm – 7pm\nSanta with his sack of treats arrives at around 6.30pm\nChristmas tree lights will be switched on by a lucky winner at 8pm\n\nMark your calendars and don’t miss this free community celebration\, proudly brought to you by Browns Bay businesses. Please show your support of our businesses by shopping and dining while you’re in town. \nStallholders:\nEnquiries to sales@aucklandmamamarket.co.nz \n⚠️ Beware of fake event pages. This event will not be streamed online.
URL:https://brownsbay.org.nz/event1/light-up-the-plaza-2025/
ATTACH;FMTTYPE=image/png:https://brownsbay.org.nz/wp-content/uploads/2025/08/Banner-700x300-2.png
END:VEVENT
END:VCALENDAR