BEGIN:VCALENDAR
VERSION:2.0
PRODID:-//Browns Bay - ECPv6.15.17.1//NONSGML v1.0//EN
CALSCALE:GREGORIAN
METHOD:PUBLISH
X-WR-CALNAME:Browns Bay
X-ORIGINAL-URL:https://brownsbay.org.nz
X-WR-CALDESC:Events for Browns Bay
REFRESH-INTERVAL;VALUE=DURATION:PT1H
X-Robots-Tag:noindex
X-PUBLISHED-TTL:PT1H
BEGIN:VTIMEZONE
TZID:Pacific/Auckland
BEGIN:STANDARD
TZOFFSETFROM:+1300
TZOFFSETTO:+1200
TZNAME:NZST
DTSTART:20240406T140000
END:STANDARD
BEGIN:DAYLIGHT
TZOFFSETFROM:+1200
TZOFFSETTO:+1300
TZNAME:NZDT
DTSTART:20240928T140000
END:DAYLIGHT
BEGIN:STANDARD
TZOFFSETFROM:+1300
TZOFFSETTO:+1200
TZNAME:NZST
DTSTART:20250405T140000
END:STANDARD
BEGIN:DAYLIGHT
TZOFFSETFROM:+1200
TZOFFSETTO:+1300
TZNAME:NZDT
DTSTART:20250927T140000
END:DAYLIGHT
BEGIN:STANDARD
TZOFFSETFROM:+1300
TZOFFSETTO:+1200
TZNAME:NZST
DTSTART:20260404T140000
END:STANDARD
BEGIN:DAYLIGHT
TZOFFSETFROM:+1200
TZOFFSETTO:+1300
TZNAME:NZDT
DTSTART:20260926T140000
END:DAYLIGHT
BEGIN:STANDARD
TZOFFSETFROM:+1300
TZOFFSETTO:+1200
TZNAME:NZST
DTSTART:20270403T140000
END:STANDARD
BEGIN:DAYLIGHT
TZOFFSETFROM:+1200
TZOFFSETTO:+1300
TZNAME:NZDT
DTSTART:20270925T140000
END:DAYLIGHT
END:VTIMEZONE
BEGIN:VEVENT
DTSTART;TZID=Pacific/Auckland:20250914T220000
DTEND;TZID=Pacific/Auckland:20250915T020000
DTSTAMP:20260423T105506
CREATED:20250722T005954Z
LAST-MODIFIED:20250825T020046Z
UID:10544-1757887200-1757901600@brownsbay.org.nz
SUMMARY:Stihl Shop Browns Bay Boys Toys 2025
DESCRIPTION:Stihl Shop Browns Bay Boys Toys 2025 is rolling back into Browns Bay with more muscle\, more shine\, and more action than ever before!\n\n\n\n \n\n\n\n\n\n\n \n\n\n\n\nClassics\, hot rods\, trucks\, chopper bikes\, police & fire vehicles… and much more on display! \n\n\nDemos of vehicles and the latest STIHL power gear \n\nAmazing local talent Rumpus Machine will be hitting the stage and bringing the energy with their pumping beats and great vibes!\n\nGiveaways\, merchandise to purchase and epic category prizes \n\n\nWhether you’re a lifelong enthusiast or just love checking out the toys\, this free family-friendly event has something for everyone. Come and see\, touch\, and experience the best of Boys Toys 2025 in a relaxed\, seaside setting. Grab a coffee or brunch\, rug up and walk the beach\, stroll the boardwalk and shop – all in beautiful Browns Bay. \nRoad Closure: please note that a section of Beach Front Lane will be closed to vehicles for the duration of this event. Affected businesses and residents will be notified of the road closure\, with full details\, in advance of the event. For traffic in the town centre on Sunday 14 September before 3pm\, we suggest that vehicles avoid using Beach Front Lane\, which will be closed from Java Jungle Cafe at the northern end to 21 Days Bar & Brasserie (opposite the public toilets on the beach reserve) at the southern end. \n\n\nIf you want to show & shine?  Email manager@brownsbay.org.nz   Vehicles enter at owner’s risk.  Fantastic category prizes will be sponsored by the event naming sponsor Stihl Shop Browns Bay. \nDon’t miss this ultimate celebration of horsepower\, craftsmanship\, and community!
URL:https://brownsbay.org.nz/event1/boys-toys-2025/
ATTACH;FMTTYPE=image/jpeg:https://brownsbay.org.nz/wp-content/uploads/2025/07/10544_image.jpg
END:VEVENT
BEGIN:VEVENT
DTSTART;TZID=Pacific/Auckland:20251114T163000
DTEND;TZID=Pacific/Auckland:20251114T203000
DTSTAMP:20260423T105506
CREATED:20250819T230316Z
LAST-MODIFIED:20250917T014854Z
UID:10593-1763137800-1763152200@brownsbay.org.nz
SUMMARY:Light Up The Plaza 2025
DESCRIPTION:Light Up The Plaza 2025\n\n\n\n\n\nChristmas starts here! Bring the kids and soak up the magic as Browns Bay lights up for the season.\n\n\n\n\n\n\n\n\nIt’s the perfect way to kick off the holiday spirit full of fun\, laughter\, and festive cheer for the whole family. \n\nEnjoy live music and entertainment\nBrowse festive craft market stalls for Christmas gifts\nWatch the giant Christmas tree light up for the very first time\nSee the children’s faces light up when Santa makes a special early season visit with treats!\n\nImportant Times:\n\nArts and crafts Christmas market stalls from 4pm\nFestive face painting from 4pm – 7pm\nSanta with his sack of treats arrives at around 6.30pm\nChristmas tree lights will be switched on by a lucky winner at 8pm\n\nMark your calendars and don’t miss this free community celebration\, proudly brought to you by Browns Bay businesses. Please show your support of our businesses by shopping and dining while you’re in town. \nStallholders:\nEnquiries to sales@aucklandmamamarket.co.nz \n⚠️ Beware of fake event pages. This event will not be streamed online.
URL:https://brownsbay.org.nz/event1/light-up-the-plaza-2025/
ATTACH;FMTTYPE=image/png:https://brownsbay.org.nz/wp-content/uploads/2025/08/Banner-700x300-2.png
END:VEVENT
BEGIN:VEVENT
DTSTART;TZID=Pacific/Auckland:20251206T150000
DTEND;TZID=Pacific/Auckland:20251206T190000
DTSTAMP:20260423T105506
CREATED:20250819T230652Z
LAST-MODIFIED:20250916T231456Z
UID:10600-1765033200-1765047600@brownsbay.org.nz
SUMMARY:Browns Bay Christmas Parade 2025
DESCRIPTION:Safe Drive Vehicle Testing Browns Bay Christmas Parade 2025\n\n\n\nMark your calendars for Saturday\, 6 December 2025 and come along for a magical day of Christmas cheer in the heart of our seaside town. \n\n\n\n\n\n\n\n\nPhoenix Plaza in the town centre will come alive with bands\, Christmas carols\, and festive favourites from 2pm. Little ones will be enchanted by roaming entertainers\, while the arts and crafts market stalls offer beautiful gifts and treats from 3pm. Perfect for ticking off your Christmas list. \nThen\, at 5pm sharp\, gather with family and friends to experience the joy of our Christmas Parade! Watch as a dazzling array of floats\, entertainers\, bands\, dancers\, and colourful characters fill the streets with festive spirit. It’s a community celebration not to be missed and the perfect way to make lasting Christmas memories. \nParade Route:\nThe parade begins at the northern end of Beach Front Lane (Marine Centre and Police Station)\, loops through the town centre via Beach Front Lane\, Anzac Road\, Glen Road\, and Bute Road\, before returning to its starting point around 6pm. Find a good spot anywhere along the route to enjoy the action! \nParking & Road Closures:\nPlease consider using public transport or carpooling. If you are driving\, park outside the town centre as some streets will be closed between 2pm and 7pm. Clyde Road will remain open to vehicles\, and can be accessed via Inverness Road. There is no access from Anzac\, Bute\, Valley or Browns Bay Roads after 2pm. \nStallholders:\nEmail sales@aucklandmamamarket.co.nz  No food stalls accepted. \nThis is a FREE community event\, proudly brought to you by our wonderful Browns Bay businesses with funding from Hibiscus & Bays Local Board and Safe Drive Vehicle Testing. Be sure to support our fantastic local businesses while you’re visiting town. \n✨ Come along and celebrate the magic of Christmas with us. Browns Bay is the place to be this festive season! ✨ \n⚠️ Beware of scams. There will be no streaming or online viewing of this event. \n\n\n\n\nEnter a Float\n\n\n\nEntering a float in the parade is FREE.  You could WIN a $500 gift voucher for best float for you to treat your crew in Browns Bay.Please complete the Float Application Form and the Indemnity Form and email them to manager@brownsbay.org.nz by 31 October 2025. \n\n\n\n\nENTER A FLOAT
URL:https://brownsbay.org.nz/event1/browns-bay-christmas-parade-2025/
ATTACH;FMTTYPE=image/jpeg:https://brownsbay.org.nz/wp-content/uploads/2025/08/Banner-700-x-300.jpg
END:VEVENT
BEGIN:VEVENT
DTSTART;TZID=Pacific/Auckland:20260228T100000
DTEND;TZID=Pacific/Auckland:20260228T190000
DTSTAMP:20260423T105506
CREATED:20251217T025129Z
LAST-MODIFIED:20260219T030529Z
UID:10968-1772272800-1772305200@brownsbay.org.nz
SUMMARY:Summer Spectacular
DESCRIPTION:Get ready for the ultimate beachside celebration! 🌞🌊\n\n\n\n\n\n\n\nSummer Spectacular is back at Browns Bay Beach\, where the sun shines\, the music plays\, and the fun never stops! Whether your little ones are adventure seekers or you’re looking to kick back and soak up the summer vibes\, there’s something for everyone. \nKids will love: \n\npony rides\ninflatables\nfun rides\nface painting\nsandcastle sculpture competition\ngiant games and puzzles… and more!\n\nCatch live music in Phoenix Plaza and on the beach reserve\, all while enjoying the stunning summer backdrop of Browns Bay Beach. \nSupport our amazing local businesses while you’re in town. Grab a coffee or a bite at one of the many nearby eateries\, enjoy a takeaway picnic and a glass of wine on the reserve\, browse the arts & crafts market stalls – don’t forget your wallet – and find time to relax and soak up the seaside vibes. \n🎟️ Admission to this event is free \nKids’ activity wristbands for fun fair and pony rides\, inflatables and face painting cost $10 per child for unlimited use between 10am and 4pm. They can be purchased from 8am at the Information Station on the boardwalk opposite Phoenix Plaza (next to the whale tail sculpture). Cash and EFTPOS accepted. \nKey Times to Help you Plan Your Day: \n\n8am – 3pm purchase wristbands at the Information Station\n10am – 1pm pony rides \n10am – 4pm fun fair rides and face painting\n10am – 7pm market stalls\n12.00pm – 2.00pm Barfoot & Thompson sandcastle & sculpture competition\n\nLive Music Not To Be Missed: \n\n11am – 3pm Chet & Melissa on stage in Phoenix Plaza\n3pm – 7pm Hands Off on stage on the beach reserve\n\nRoad Closure & Parking: \n\nA section of Beach Front Lane between 21 Days Bar & Brasserie and Java Jungle Cafe will be closed to vehicles from 8am to 7.30pm.\nStreet parking inside the road closure will not be available.\nAccess will be given to residents and businesses with off-street parking.\nParkmate paid parking adjacent to Phoenix Plaza will not be available.\nThere is no planned disruption to bus services.\nWe expect Browns Bay to be very busy on event day. If you are coming along to the event we suggest that you park west of Glen Road\, towards Freyberg Park\, where there is unrestricted parking\, and walk into town – a 10-minute stroll. \n\nThanks to Hibiscus and Bays Local Board for their continued generous financial backing of Summer Spectacular\, and to Barfoot & Thompson’s Mehran Zareian\, Neil Gorman and Geraldine Zareian for contributing towards the cost of the live bands and bringing the sandcastle sculpture competition on the beach as part of the event. \nWe encourage a smoke-free event and ask you to refrain from smoking or vaping at the event site. Dogs are welcome but please keep them on a leash. \nStallholders: enquiries to sales@aucklandmamamarket.co.nz  This is the only way to book a stall at this event. Please ignore online invitations from any other parties to book stalls. \n\nCome for the beach\, stay for the memories! Summer Spectacular 2026 is the place to be this summer! 🌴🎶 \n 
URL:https://brownsbay.org.nz/event1/summer-spectacular-2/
ATTACH;FMTTYPE=image/jpeg:https://brownsbay.org.nz/wp-content/uploads/2025/12/10968_image.jpg
END:VEVENT
BEGIN:VEVENT
DTSTART;TZID=Pacific/Auckland:20260419T090000
DTEND;TZID=Pacific/Auckland:20260419T140000
DTSTAMP:20260423T105506
CREATED:20260310T042531Z
LAST-MODIFIED:20260405T013655Z
UID:11072-1776589200-1776607200@brownsbay.org.nz
SUMMARY:Browns Bay Dog Day Out 2026
DESCRIPTION:Browns Bay Dog Day Out 2026\n\n\n\nBring your furry friends along for a free fun day out filled with tail wags and new pals at Browns Bay Dog Day Out! \n\n\n\n\n\n\n\n\nWe’re rolling out the red carpet for our bestest furry friends and their favourite hoomans. Expect a day full of wagging tails\, happy barks\, and all things doggo at this fun\, pet-friendly\, free event. \n\nOodles of stalls packed with doggy goodies\nProfessional pet pawtraits so your pup can strike their best pose\nTraining demos from the experts\nLive music\nDIY selfie wall for those pawfect photo moments\nDog runway – get those pups preened and ready to strut their stuff! Register at the event.\n\nProgramme\n9am – 2pm   Live Music with Ben Deverell \n9.30am – 10.30am   Workshop – Doggy Paw Prints and Sketches \n10.30am – 11am   Free Demo – Julie Garreau of PetWise – How can osteopathic treatment support your dog’s mobility\, comfort\, performance and wellbeing \n11am – 2pm   Dogue – Professional Pawtrait Photography in Bark & Brew Cafe \n11.30am – 12pm   Free Demo – Lynsey Brown of Canine & You – North Shore dog trainer service helping dogs and their humans thrive together \n12pm – 1pm   Dog Runway Registrations – outside Bark & Brew Cafe \n1pm – 2pm   Dog Runway sponsored by Petdirect Fun and friendly for all! 🐾 Best Outfit 🐾 Best Trick 🐾 Best on Runway 🐾 Golden Paws. Loads of prizes \n\n\nBrowns Bay is a place where dogs are always welcome! Our community absolutely loves its four-legged friends\, with plenty of outdoor spaces to explore and lots of dog-friendly businesses ready to greet wagging tails. So leash up your floofs\, bring the family\, and come celebrate the amazing pups that make our community so special. \nIt’s going to be a howlin’ good time!
URL:https://brownsbay.org.nz/event1/browns-bay-dog-date-out-2026/
LOCATION:Browns Bay Beach Reserve\, Beach Front Lane\, Browns Bay\, Auckland\, New Zealand\, Manly Esplanade\, Auckland\, Auckland 0630\, Auckland\, 0630\, NZ
ATTACH;FMTTYPE=image/jpeg:https://brownsbay.org.nz/wp-content/uploads/2026/03/11072_image.jpg
END:VEVENT
END:VCALENDAR