BEGIN:VCALENDAR
VERSION:2.0
PRODID:-//Browns Bay - ECPv6.15.17.1//NONSGML v1.0//EN
CALSCALE:GREGORIAN
METHOD:PUBLISH
X-ORIGINAL-URL:https://brownsbay.org.nz
X-WR-CALDESC:Events for Browns Bay
REFRESH-INTERVAL;VALUE=DURATION:PT1H
X-Robots-Tag:noindex
X-PUBLISHED-TTL:PT1H
BEGIN:VTIMEZONE
TZID:Pacific/Auckland
BEGIN:STANDARD
TZOFFSETFROM:+1300
TZOFFSETTO:+1200
TZNAME:NZST
DTSTART:20220402T140000
END:STANDARD
BEGIN:DAYLIGHT
TZOFFSETFROM:+1200
TZOFFSETTO:+1300
TZNAME:NZDT
DTSTART:20220924T140000
END:DAYLIGHT
BEGIN:STANDARD
TZOFFSETFROM:+1300
TZOFFSETTO:+1200
TZNAME:NZST
DTSTART:20230401T140000
END:STANDARD
BEGIN:DAYLIGHT
TZOFFSETFROM:+1200
TZOFFSETTO:+1300
TZNAME:NZDT
DTSTART:20230923T140000
END:DAYLIGHT
BEGIN:STANDARD
TZOFFSETFROM:+1300
TZOFFSETTO:+1200
TZNAME:NZST
DTSTART:20240406T140000
END:STANDARD
BEGIN:DAYLIGHT
TZOFFSETFROM:+1200
TZOFFSETTO:+1300
TZNAME:NZDT
DTSTART:20240928T140000
END:DAYLIGHT
END:VTIMEZONE
BEGIN:VEVENT
DTSTART;TZID=Pacific/Auckland:20230429T090000
DTEND;TZID=Pacific/Auckland:20230429T140000
DTSTAMP:20260426T022817
CREATED:20230319T053610Z
LAST-MODIFIED:20230320T033729Z
UID:8242-1682758800-1682776800@brownsbay.org.nz
SUMMARY:Dog Day Out
DESCRIPTION:Browns Bay is at the top of the list of dog-friendly destinations on the North Shore. Our sandy beach is a paradise for pooches. Furry friends can visit some of our great cafes\, and there’s no shortage of doggy drink bowls and friendly folks around the town centre who are keen to pat your pooch .  \n\n\n\nSo it’s no surprise that the newest event on our calendar this year is ‘Dog Day Out’. We’re so excited to bring this event to Browns Bay in conjunction with organiser Sunshine Events. There’ll be workshops to dip your paws into\, market stalls brimming with the latest pup fashions and products\, doggy training and nutrition tips… plus lots more! \n\n\n\n\nThis is a FREE family-friendly event for all\, including\, workshops and dog runway. Bring your furry friends for a great day out\, and leave time for a feast at one of our amazing dog-friendly eateries in town. \n\n\n\nYou can book your spot on the runway at the event – best paw forward! Limited spaces. Prizes  will be awarded afterwards. \n\n\n\nLive music and spot prizes throughout the event. \n\n\n\nPhoenix Plaza and the beachfront boardwalk are not fenced off areas\, and there will be dogs of all ages and sizes. We appreciate you keeping your fur baby on their lead. \n\n\n\nWatch this space for more details as the event date draws nearer. \n\n\n\nProudly sponsored by Browns Bay businesses.  \n\n\n\nFor stall bookings & information please email sunshineeventsnz
URL:https://brownsbay.org.nz/event1/dog-day-out-browns-bay/
CATEGORIES:Community,Kids
ATTACH;FMTTYPE=image/jpeg:https://brownsbay.org.nz/wp-content/uploads/2023/03/Banner.jpeg
ORGANIZER;CN="Kim Murdoch":MAILTO:manager@brownsbay.org.nz
END:VEVENT
END:VCALENDAR