BEGIN:VCALENDAR
VERSION:2.0
PRODID:-//Browns Bay - ECPv6.15.17.1//NONSGML v1.0//EN
CALSCALE:GREGORIAN
METHOD:PUBLISH
X-ORIGINAL-URL:https://brownsbay.org.nz
X-WR-CALDESC:Events for Browns Bay
REFRESH-INTERVAL;VALUE=DURATION:PT1H
X-Robots-Tag:noindex
X-PUBLISHED-TTL:PT1H
BEGIN:VTIMEZONE
TZID:Pacific/Auckland
BEGIN:STANDARD
TZOFFSETFROM:+1300
TZOFFSETTO:+1200
TZNAME:NZST
DTSTART:20240406T140000
END:STANDARD
BEGIN:DAYLIGHT
TZOFFSETFROM:+1200
TZOFFSETTO:+1300
TZNAME:NZDT
DTSTART:20240928T140000
END:DAYLIGHT
BEGIN:STANDARD
TZOFFSETFROM:+1300
TZOFFSETTO:+1200
TZNAME:NZST
DTSTART:20250405T140000
END:STANDARD
BEGIN:DAYLIGHT
TZOFFSETFROM:+1200
TZOFFSETTO:+1300
TZNAME:NZDT
DTSTART:20250927T140000
END:DAYLIGHT
BEGIN:STANDARD
TZOFFSETFROM:+1300
TZOFFSETTO:+1200
TZNAME:NZST
DTSTART:20260404T140000
END:STANDARD
BEGIN:DAYLIGHT
TZOFFSETFROM:+1200
TZOFFSETTO:+1300
TZNAME:NZDT
DTSTART:20260926T140000
END:DAYLIGHT
END:VTIMEZONE
BEGIN:VEVENT
DTSTART;TZID=Pacific/Auckland:20250401T000100
DTEND;TZID=Pacific/Auckland:20250505T235900
DTSTAMP:20260423T105445
CREATED:20250324T014949Z
LAST-MODIFIED:20250401T225444Z
UID:10228-1743465660-1746489540@brownsbay.org.nz
SUMMARY:Shop in Browns Bay from 1 April – 5 May 2025 to be in to WIN!
DESCRIPTION:Shop in Browns Bay from 1 April – 5 May 2025 to be in to WIN!\n\n\n\n \n\n\n\nTo celebrate our WONDERFUL MUMS\, and the support you show for small local businesses in Browns Bay\, some businesses have come together to sponsor amazing PRIZES that Mum\, or a mother figure in your life\, will LOVE. Scroll down to check out the prizes. \n\n\n\n\nENTER YOUR UNIQUE CODE(S) HERE\n\n\n\n\n \n\n\n\n \n\n\n\n\n\n\n\n \n\n\n\nFIRST PRIZE \n\n\n\nAugenstein’s Jewellers & Watch Makers Solid Gold Bangle Valued At $5\,900\n\n\n\n \n\n\n\nOTHER PRIZES \n\n\n\n\n$500 gift voucher to pamper your mum\, or yourself\, at Hunter & Rose Hair & Beauty Collective\n\n\n\n$300 meal voucher for two to dine at 21 Days Bar & Brasserie\n\n\n\n$300 gift voucher to pamper her with flowers at Bays Flowers\n\n\n\n$300 gift voucher for nail art at Cosmo Nails & Beauty\n\n\n\n$230 gift voucher for a 3-course cooking class for two people at Emily’s Greek Kitchen\n\n\n\n$200 gift voucher to shop Mediterranean fine food at Meditaste\n\n\n\n$150 gift of wine at Browns Bay Liquor Centre\n\n\n\n\nHOW DO I ENTER? \n\n\n\nSimply spend $20 or more in any participating Browns Bay business – anywhere you see the promotional poster – from 1 April to 5 May 2025\, ask for an entry card and a receipt\, complete the entry form here by clicking on the yellow button and filling in ALL compulsory fields. You’re in to WIN! \n\n\n\n\nENTER YOUR UNIQUE CODE(S) HERE\n\n\n\n\n \n\n\n\n* Ts & Cs Apply Spend $20 or more in one transaction to receive one entry card. Multiple entries are permitted but limited to one entry per transaction. Receipts MUST be kept to claim prizes. \n\n\n\nWHEN WILL THE WINNERS BE DRAWN? \n\n\n\nEight winners will be drawn on Tuesday 6 May 2025 and notified by phone or email. Winners will also be announced on our Facebook and Instagram pages once they have all been notified. \n\n\n\n \n\n\n\nWHERE CAN I GET ENTRY CARDS? \n\n\n\n\n21 Days Bar & Brasserie\n\n\n\nAB Hair & Makeup\n\n\n\nAnzac Automotive / Bosch Car Service\n\n\n\nAscent Chiropractic\n\n\n\nAugenstein’s Jewellers & Watchmakers\n\n\n\nBark & Brew Cafe\n\n\n\nBath Boutique\n\n\n\nBay Sushi\n\n\n\nBays Club\n\n\n\nBays Flowers\n\n\n\nBayside Dental Centre\n\n\n\nBays Health Pharmacy\n\n\n\nBeans & Cream\n\n\n\nBernie’s Bakery\n\n\n\nBerryman’s Toys / Lotto Shop\n\n\n\nBlack Antler Eatery\n\n\n\nBlend Hair Salon\n\n\n\nBlonded & Co\n\n\n\nBrothers Bar & Eatery Multicuisine\n\n\n\nBrowns Bay Brewing Co\n\n\n\nBrowns Bay Liquor Centre\n\n\n\nBulk Barn\n\n\n\nCaroline Eve\n\n\n\nCécile’s Café\n\n\n\nCindy’s Cookies\n\n\n\nCommodore Pharmacy\n\n\n\nCosmo Nails & Beauty\n\n\n\nCher Massage & Spa\n\n\n\nCrepe Time\n\n\n\nCrunchy crunch\n\n\n\nDa Dao\n\n\n\nDale Nixon Automotive\n\n\n\nDiscount Tyres\n\n\n\nDiva Nails & Beauty\n\n\n\nEat Crawlers\n\n\n\nEmily’s Greek Kitchen\n\n\n\nFlavells Florist\n\n\n\nFools n Horses\n\n\n\nFruit World\n\n\n\nGalak\n\n\n\nGlam Fashion & Accessories\n\n\n\nGolden Sands Café\n\n\n\nGoodfellas\n\n\n\nGP Auto Centre\n\n\n\nHato Hone St John\n\n\n\nHolgate Panelbeaters\n\n\n\nHospice Shop\n\n\n\nHouse of Travel\n\n\n\nHunter & Rose – Hair & Beauty Collective\n\n\n\nIkes Emporium\n\n\n\nIndependent Living\n\n\n\nIndulge Cake Supplies\n\n\n\nJava Jungle Cafe\n\n\n\nKiwi Shores Cafe & Eatery\n\n\n\nLa Joconde Patisserie Française\n\n\n\nLima’s Kitchen\n\n\n\nMadame Yen\n\n\n\nMeditaste\n\n\n\nMonty’s Promotions\n\n\n\nMy Remedy\n\n\n\nMr. Fresh Barbershop\n\n\n\nNaila Beauty\n\n\n\nNancy Nails Bar\n\n\n\nNew World\n\n\n\nNicholls & Associates\n\n\n\nNorth Shore Drycleaners\n\n\n\nOcean Breeze Eatery\n\n\n\nOffa Bakery\n\n\n\nOne Stop Bunny Shop\n\n\n\nOPSM\n\n\n\nPages Design & Print\n\n\n\nPaper Plus\n\n\n\nPaper Power\n\n\n\nPenguino Ice Cream Cafe\n\n\n\nPit Stop\n\n\n\nRack n Roll Ribs\n\n\n\nRamen Takara\n\n\n\nRed Cross Shop\n\n\n\nRepco\n\n\n\nSafe Drive Vehicle Testing\n\n\n\nSerendipity Designer Outlet\n\n\n\nSiam Thai\n\n\n\nSkin Boutique\n\n\n\nSt Mary’s by the Sea Community Shop\n\n\n\nStandby Coffee & Deli\n\n\n\nSteve Roos Motor Services\n\n\n\nStihl Shop\n\n\n\nStitch ‘n Time\n\n\n\nSugar n Cup\n\n\n\nSuper Liquor\n\n\n\nSushi Lab\n\n\n\nSushi-Ya Sushi\n\n\n\nThai Corner Street Food\n\n\n\nThe Barber Shop\n\n\n\nThe Cobble\n\n\n\nThe Coffee Club\n\n\n\nThe Exclusive Hair Studio\n\n\n\nThe Flaming Onion\n\n\n\nThe Meat Room\n\n\n\nTriton Hearing\n\n\n\nUK Grocer\n\n\n\nUnichem Pharmacy\n\n\n\nVivo Hair Salon\n\n\n\nWhitcoulls\n\n\n\nYaruki Japanese Restaurant\n\n\n\nYi Fang Taiwan Fruit Tea\n\n\n\nWhite Flower Café\n\n\n\nZero Japanese Ramen Sake Bar
URL:https://brownsbay.org.nz/event1/shop-in-browns-bay-from-1-april-5-may-2025-to-be-in-to-win/
CATEGORIES:Community,Competitions
ATTACH;FMTTYPE=image/jpeg:https://brownsbay.org.nz/wp-content/uploads/2025/03/Banner-700-x-300-scaled.jpg
END:VEVENT
END:VCALENDAR