BEGIN:VCALENDAR
VERSION:2.0
PRODID:-//Browns Bay - ECPv6.15.17.1//NONSGML v1.0//EN
CALSCALE:GREGORIAN
METHOD:PUBLISH
X-ORIGINAL-URL:https://brownsbay.org.nz
X-WR-CALDESC:Events for Browns Bay
REFRESH-INTERVAL;VALUE=DURATION:PT1H
X-Robots-Tag:noindex
X-PUBLISHED-TTL:PT1H
BEGIN:VTIMEZONE
TZID:Pacific/Auckland
BEGIN:STANDARD
TZOFFSETFROM:+1300
TZOFFSETTO:+1200
TZNAME:NZST
DTSTART:20230401T140000
END:STANDARD
BEGIN:DAYLIGHT
TZOFFSETFROM:+1200
TZOFFSETTO:+1300
TZNAME:NZDT
DTSTART:20230923T140000
END:DAYLIGHT
BEGIN:STANDARD
TZOFFSETFROM:+1300
TZOFFSETTO:+1200
TZNAME:NZST
DTSTART:20240406T140000
END:STANDARD
BEGIN:DAYLIGHT
TZOFFSETFROM:+1200
TZOFFSETTO:+1300
TZNAME:NZDT
DTSTART:20240928T140000
END:DAYLIGHT
BEGIN:STANDARD
TZOFFSETFROM:+1300
TZOFFSETTO:+1200
TZNAME:NZST
DTSTART:20250405T140000
END:STANDARD
BEGIN:DAYLIGHT
TZOFFSETFROM:+1200
TZOFFSETTO:+1300
TZNAME:NZDT
DTSTART:20250927T140000
END:DAYLIGHT
END:VTIMEZONE
BEGIN:VEVENT
DTSTART;TZID=Pacific/Auckland:20240908T100000
DTEND;TZID=Pacific/Auckland:20240908T140000
DTSTAMP:20260423T204621
CREATED:20240626T022421Z
LAST-MODIFIED:20240907T052356Z
UID:9598-1725789600-1725804000@brownsbay.org.nz
SUMMARY:Stihl Shop Browns Bay Boys Toys 2024
DESCRIPTION:EVENT UPDATE 07/09/2024:  Rain and strong wind is forecast overnight and early morning on the day of the event. However it will blow over by 9am on Sunday 8 September. Therefore the event will proceed and we look very forward to seeing you in Phoenix Plaza for heaps of fun\, things to see\, demonstrations to enjoy\, merchandise to buy\, live music by the amazing The Recliner Rockers\, and much more. \n\n\n\nCome check out all the cool vehicles\, gadgets and gear – it’s the ultimate playground for enthusiasts right at the beach in the heart of Browns Bay! \n\n\n\n\n\n\n\n\n\n\nStihl Shop Browns Bay Boys Toys 2024\nWe’re back in Phoenix Plaza again this year for the ultimate showcase of boys’ toys! From classic cars to hot rods and chopper bikes\, the latest Stihl power tools\, live music\, merchandise\, prizes galore and much more\, this event is a must-visit for all enthusiasts. Whether you’re a seasoned pro or just love browsing and experiencing the toys\, there’s something for everyone\, including the kids. Don’t miss out on the chance to see\, touch\, and experience the best in boys’ toys! \nWhy not treat your family to a barista coffee or hot chocolate\, breakfast or lunch in one of our many fabulous cafes and eateries while you’re in town. The event is taking place right in the heart of Browns Bay\, and the beach is on the other side of the street! Stroll the boardwalk\, blow away the cobwebs and have an exceptional day in Browns Bay. \nThis event is brought to you by Browns Bay businesses\, Stihl Shop Browns Bay and Renegade Rod & Custom.  Thank you for supporting them. \nIf you’re a local who would like to show and shine your vehicle at this event and be part of the fun\, email manager@brownsbay.org.nz \n\n 
URL:https://brownsbay.org.nz/event1/stihl-shop-browns-bay-boys-toys-2024/
CATEGORIES:Community
ATTACH;FMTTYPE=image/jpeg:https://brownsbay.org.nz/wp-content/uploads/2024/06/9598_image.jpg
END:VEVENT
END:VCALENDAR