BEGIN:VCALENDAR
VERSION:2.0
PRODID:-//Browns Bay - ECPv6.15.17.1//NONSGML v1.0//EN
CALSCALE:GREGORIAN
METHOD:PUBLISH
X-WR-CALNAME:Browns Bay
X-ORIGINAL-URL:https://brownsbay.org.nz
X-WR-CALDESC:Events for Browns Bay
REFRESH-INTERVAL;VALUE=DURATION:PT1H
X-Robots-Tag:noindex
X-PUBLISHED-TTL:PT1H
BEGIN:VTIMEZONE
TZID:Pacific/Auckland
BEGIN:STANDARD
TZOFFSETFROM:+1300
TZOFFSETTO:+1200
TZNAME:NZST
DTSTART:20240406T140000
END:STANDARD
BEGIN:DAYLIGHT
TZOFFSETFROM:+1200
TZOFFSETTO:+1300
TZNAME:NZDT
DTSTART:20240928T140000
END:DAYLIGHT
BEGIN:STANDARD
TZOFFSETFROM:+1300
TZOFFSETTO:+1200
TZNAME:NZST
DTSTART:20250405T140000
END:STANDARD
BEGIN:DAYLIGHT
TZOFFSETFROM:+1200
TZOFFSETTO:+1300
TZNAME:NZDT
DTSTART:20250927T140000
END:DAYLIGHT
BEGIN:STANDARD
TZOFFSETFROM:+1300
TZOFFSETTO:+1200
TZNAME:NZST
DTSTART:20260404T140000
END:STANDARD
BEGIN:DAYLIGHT
TZOFFSETFROM:+1200
TZOFFSETTO:+1300
TZNAME:NZDT
DTSTART:20260926T140000
END:DAYLIGHT
END:VTIMEZONE
BEGIN:VEVENT
DTSTART;TZID=Pacific/Auckland:20250914T220000
DTEND;TZID=Pacific/Auckland:20250915T020000
DTSTAMP:20260422T022518
CREATED:20250722T005954Z
LAST-MODIFIED:20250825T020046Z
UID:10544-1757887200-1757901600@brownsbay.org.nz
SUMMARY:Stihl Shop Browns Bay Boys Toys 2025
DESCRIPTION:Stihl Shop Browns Bay Boys Toys 2025 is rolling back into Browns Bay with more muscle\, more shine\, and more action than ever before!\n\n\n\n \n\n\n\n\n\n\n \n\n\n\n\nClassics\, hot rods\, trucks\, chopper bikes\, police & fire vehicles… and much more on display! \n\n\nDemos of vehicles and the latest STIHL power gear \n\nAmazing local talent Rumpus Machine will be hitting the stage and bringing the energy with their pumping beats and great vibes!\n\nGiveaways\, merchandise to purchase and epic category prizes \n\n\nWhether you’re a lifelong enthusiast or just love checking out the toys\, this free family-friendly event has something for everyone. Come and see\, touch\, and experience the best of Boys Toys 2025 in a relaxed\, seaside setting. Grab a coffee or brunch\, rug up and walk the beach\, stroll the boardwalk and shop – all in beautiful Browns Bay. \nRoad Closure: please note that a section of Beach Front Lane will be closed to vehicles for the duration of this event. Affected businesses and residents will be notified of the road closure\, with full details\, in advance of the event. For traffic in the town centre on Sunday 14 September before 3pm\, we suggest that vehicles avoid using Beach Front Lane\, which will be closed from Java Jungle Cafe at the northern end to 21 Days Bar & Brasserie (opposite the public toilets on the beach reserve) at the southern end. \n\n\nIf you want to show & shine?  Email manager@brownsbay.org.nz   Vehicles enter at owner’s risk.  Fantastic category prizes will be sponsored by the event naming sponsor Stihl Shop Browns Bay. \nDon’t miss this ultimate celebration of horsepower\, craftsmanship\, and community!
URL:https://brownsbay.org.nz/event1/boys-toys-2025/
ATTACH;FMTTYPE=image/jpeg:https://brownsbay.org.nz/wp-content/uploads/2025/07/10544_image.jpg
END:VEVENT
END:VCALENDAR