BEGIN:VCALENDAR
VERSION:2.0
PRODID:-//Browns Bay - ECPv6.15.17.1//NONSGML v1.0//EN
CALSCALE:GREGORIAN
METHOD:PUBLISH
X-WR-CALNAME:Browns Bay
X-ORIGINAL-URL:https://brownsbay.org.nz
X-WR-CALDESC:Events for Browns Bay
REFRESH-INTERVAL;VALUE=DURATION:PT1H
X-Robots-Tag:noindex
X-PUBLISHED-TTL:PT1H
BEGIN:VTIMEZONE
TZID:Pacific/Auckland
BEGIN:STANDARD
TZOFFSETFROM:+1300
TZOFFSETTO:+1200
TZNAME:NZST
DTSTART:20240406T140000
END:STANDARD
BEGIN:DAYLIGHT
TZOFFSETFROM:+1200
TZOFFSETTO:+1300
TZNAME:NZDT
DTSTART:20240928T140000
END:DAYLIGHT
BEGIN:STANDARD
TZOFFSETFROM:+1300
TZOFFSETTO:+1200
TZNAME:NZST
DTSTART:20250405T140000
END:STANDARD
BEGIN:DAYLIGHT
TZOFFSETFROM:+1200
TZOFFSETTO:+1300
TZNAME:NZDT
DTSTART:20250927T140000
END:DAYLIGHT
BEGIN:STANDARD
TZOFFSETFROM:+1300
TZOFFSETTO:+1200
TZNAME:NZST
DTSTART:20260404T140000
END:STANDARD
BEGIN:DAYLIGHT
TZOFFSETFROM:+1200
TZOFFSETTO:+1300
TZNAME:NZDT
DTSTART:20260926T140000
END:DAYLIGHT
END:VTIMEZONE
BEGIN:VEVENT
DTSTART;TZID=Pacific/Auckland:20250518T090000
DTEND;TZID=Pacific/Auckland:20250518T140000
DTSTAMP:20260422T143923
CREATED:20250327T004958Z
LAST-MODIFIED:20250328T042401Z
UID:10264-1747558800-1747576800@brownsbay.org.nz
SUMMARY:Browns Bay Dog Day Out
DESCRIPTION:Browns Bay Dog Day Out 2025\n\n\nGet your four-legged furry friends prepped for a great day out in Browns Bay at this dog-centric event that’s returning by popular demand!\n\n\n  \n\n\n\n\n\n\nFull of dog-friendly eateries and shops\, with a beautiful beach and reserve\, Browns Bay in the East Coast Bays north of Auckland is a hotspot of furry cuteness. What better place to have a fun\, family-friendly event that puts your fur babies in the spotlight. \n\n\n\nYou can expect informative workshops to dip your paws into\, fun activities\, live music\, and lots of exciting boutique market stalls bursting with the coolest pup-related products. \n\n\n\nEveryone is welcome to this relaxed event. Free entry for all\, including the workshops and dog runway. Lots of cool spot prizes to be won. Book your fur baby’s spot on the runway on the day. \n\n\n\n9am  Event begins. Best paw forward! \n\n\n\n10am  Workshops begin. Details will be posted on our socials Facebook and INSTA \n\n\n\n12:30pm  Dog Runway entries close \n\n\n\n1pm  Dog Runway pageant show begins. All entries welcome \n\n\n\n1:45pm  Winners announced! \n\n\n\n2pm  Event ends \n\n\n\nThis event is brought to you by Browns Bay businesses and Sunshine Events. Why not make a day of it and grab a coffee or something to eat while you’re in town to show your support of our fabulous eateries. \n\n\n\nIf you’re a Browns Bay town centre business who is interested in having a stall please email sunshineeventsnz@gmail.com \n\n\n\nWe ask that you keep your four-legged companions on a lead at all times as there will be all sorts of breeds of different ages at the event. \n\n\n\nCan’t wait to see you\, your furry besties and your funky outfits.
URL:https://brownsbay.org.nz/event1/browns-bay-dog-day-out-2/
CATEGORIES:Community
ATTACH;FMTTYPE=image/png:https://brownsbay.org.nz/wp-content/uploads/2025/03/10264_image.png
END:VEVENT
END:VCALENDAR