BEGIN:VCALENDAR
VERSION:2.0
PRODID:-//Browns Bay - ECPv6.15.17.1//NONSGML v1.0//EN
CALSCALE:GREGORIAN
METHOD:PUBLISH
X-ORIGINAL-URL:https://brownsbay.org.nz
X-WR-CALDESC:Events for Browns Bay
REFRESH-INTERVAL;VALUE=DURATION:PT1H
X-Robots-Tag:noindex
X-PUBLISHED-TTL:PT1H
BEGIN:VTIMEZONE
TZID:Pacific/Auckland
BEGIN:STANDARD
TZOFFSETFROM:+1300
TZOFFSETTO:+1200
TZNAME:NZST
DTSTART:20240406T140000
END:STANDARD
BEGIN:DAYLIGHT
TZOFFSETFROM:+1200
TZOFFSETTO:+1300
TZNAME:NZDT
DTSTART:20240928T140000
END:DAYLIGHT
BEGIN:STANDARD
TZOFFSETFROM:+1300
TZOFFSETTO:+1200
TZNAME:NZST
DTSTART:20250405T140000
END:STANDARD
BEGIN:DAYLIGHT
TZOFFSETFROM:+1200
TZOFFSETTO:+1300
TZNAME:NZDT
DTSTART:20250927T140000
END:DAYLIGHT
BEGIN:STANDARD
TZOFFSETFROM:+1300
TZOFFSETTO:+1200
TZNAME:NZST
DTSTART:20260404T140000
END:STANDARD
BEGIN:DAYLIGHT
TZOFFSETFROM:+1200
TZOFFSETTO:+1300
TZNAME:NZDT
DTSTART:20260926T140000
END:DAYLIGHT
END:VTIMEZONE
BEGIN:VEVENT
DTSTART;TZID=Pacific/Auckland:20250301T100000
DTEND;TZID=Pacific/Auckland:20250301T190000
DTSTAMP:20260422T215943
CREATED:20250108T002353Z
LAST-MODIFIED:20250223T042222Z
UID:10075-1740823200-1740855600@brownsbay.org.nz
SUMMARY:Summer Spectacular 2025
DESCRIPTION:Get ready for the ultimate Summer Spectacular 2025 – a fun-filled event full of sunshine\, music\, and good vibes!\n\n\nSummer Spectacular 2025 \nGet ready for the ultimate Summer Spectacular\, where the sun shines\, the music blares\, and the good times roll. Whether your little ones are outdoor fun seekers\, or you’re just looking to unwind\, this event has something for everyone. Immerse yourself in the vibrant atmosphere as the kids enjoy fun activities including ever-popular pony rides\, dance sessions\, giant games\, face painting\, and more. Enjoy the live music on stage in Phoenix Plaza and on the beach reserve while you soak up the summer vibes. Browns Bay Beach offers the perfect backdrop for this unforgettable day. Our small local businesses bring this event to you so please shop locally and visit our fabulous eateries to dine across the road from the event\, or grab a takeaway and have a picnic on the reserve. Admission to the event is free. $10 charge for kids’ activities covering all of the following: \n\npony rides\nbouncy castles\nface painting\nkids’ activities\n\nCash\, credit and eftpos accepted from 9am at the Information station on the boardwalk next to the whale tail sculpture. \nOur thanks to Hibiscus and Bays Local Board for their generous financial contribution towards making this event possible. We encourage smokefree and kindly ask that you do not smoke or vape anywhere in the event site. Although we love our furry friends in Browns Bay\, we ask that you keep your dogs on the leash while at the event. \n*****************************************************************************************************\nImportant Times: \n9am  Ticket sales for kids’ activities open \n10am  Kids’ activities & games. Pony rides until 1pm only \n10.30am  Entertainment onstage on the beach reserve until 2pm \n10.30am  Live music & entertainment onstage in Phoenix Plaza until 7pm \n3pm  Arts & crafts market stalls until 7pm \n3.30pm  The fabulous Recliner Rockers onstage on Browns Bay beach reserve until 7pm \n***************************************************************************************************** \nMark up your calendar and grab your sunscreen and hats before heading down to Browns Bay Summer Spectacular 2025 for a day of beachside fun while you take in the fresh sea air! \nPlease note that part of Beach Front Lane will be closed to vehicles for the event so parking will be very limited. We suggest that you park in unrestricted parking west of the town centre (towards Freyberg Park) and get your steps up with a short walk down to the beach.
URL:https://brownsbay.org.nz/event1/summer-spectacular-2025/
ATTACH;FMTTYPE=image/png:https://brownsbay.org.nz/wp-content/uploads/2025/01/10075_image.png
END:VEVENT
END:VCALENDAR