BEGIN:VCALENDAR
VERSION:2.0
PRODID:-//Browns Bay - ECPv6.15.17.1//NONSGML v1.0//EN
CALSCALE:GREGORIAN
METHOD:PUBLISH
X-ORIGINAL-URL:https://brownsbay.org.nz
X-WR-CALDESC:Events for Browns Bay
REFRESH-INTERVAL;VALUE=DURATION:PT1H
X-Robots-Tag:noindex
X-PUBLISHED-TTL:PT1H
BEGIN:VTIMEZONE
TZID:Pacific/Auckland
BEGIN:STANDARD
TZOFFSETFROM:+1300
TZOFFSETTO:+1200
TZNAME:NZST
DTSTART:20220402T140000
END:STANDARD
BEGIN:DAYLIGHT
TZOFFSETFROM:+1200
TZOFFSETTO:+1300
TZNAME:NZDT
DTSTART:20220924T140000
END:DAYLIGHT
BEGIN:STANDARD
TZOFFSETFROM:+1300
TZOFFSETTO:+1200
TZNAME:NZST
DTSTART:20230401T140000
END:STANDARD
BEGIN:DAYLIGHT
TZOFFSETFROM:+1200
TZOFFSETTO:+1300
TZNAME:NZDT
DTSTART:20230923T140000
END:DAYLIGHT
BEGIN:STANDARD
TZOFFSETFROM:+1300
TZOFFSETTO:+1200
TZNAME:NZST
DTSTART:20240406T140000
END:STANDARD
BEGIN:DAYLIGHT
TZOFFSETFROM:+1200
TZOFFSETTO:+1300
TZNAME:NZDT
DTSTART:20240928T140000
END:DAYLIGHT
END:VTIMEZONE
BEGIN:VEVENT
DTSTART;TZID=Pacific/Auckland:20231017T173000
DTEND;TZID=Pacific/Auckland:20231017T193000
DTSTAMP:20260426T092638
CREATED:20230927T225017Z
LAST-MODIFIED:20231001T213239Z
UID:8776-1697563800-1697571000@brownsbay.org.nz
SUMMARY:AGM 2023
DESCRIPTION:The Browns Bay Business Association Inc. AGM 2023 will be held on Tuesday 17 October at 5.30pm – 7.30pm.\n\n\nAll interested parties and stakeholders are welcome. \nVoting rights for Browns Bay Business Association full members only. \nContact manager@brownsbay.org.nz for an Agenda or visit www.brownsbay.org.nz \nConfirm your attendance by 10 October 2023 here or by emailing manager@brownsbay.org.nz
URL:https://brownsbay.org.nz/event1/agm-2023/
END:VEVENT
END:VCALENDAR