BEGIN:VCALENDAR
VERSION:2.0
PRODID:-//Browns Bay - ECPv6.15.17.1//NONSGML v1.0//EN
CALSCALE:GREGORIAN
METHOD:PUBLISH
X-WR-CALNAME:Browns Bay
X-ORIGINAL-URL:https://brownsbay.org.nz
X-WR-CALDESC:Events for Browns Bay
REFRESH-INTERVAL;VALUE=DURATION:PT1H
X-Robots-Tag:noindex
X-PUBLISHED-TTL:PT1H
BEGIN:VTIMEZONE
TZID:Pacific/Auckland
BEGIN:STANDARD
TZOFFSETFROM:+1300
TZOFFSETTO:+1200
TZNAME:NZST
DTSTART:20220402T140000
END:STANDARD
BEGIN:DAYLIGHT
TZOFFSETFROM:+1200
TZOFFSETTO:+1300
TZNAME:NZDT
DTSTART:20220924T140000
END:DAYLIGHT
BEGIN:STANDARD
TZOFFSETFROM:+1300
TZOFFSETTO:+1200
TZNAME:NZST
DTSTART:20230401T140000
END:STANDARD
BEGIN:DAYLIGHT
TZOFFSETFROM:+1200
TZOFFSETTO:+1300
TZNAME:NZDT
DTSTART:20230923T140000
END:DAYLIGHT
BEGIN:STANDARD
TZOFFSETFROM:+1300
TZOFFSETTO:+1200
TZNAME:NZST
DTSTART:20240406T140000
END:STANDARD
BEGIN:DAYLIGHT
TZOFFSETFROM:+1200
TZOFFSETTO:+1300
TZNAME:NZDT
DTSTART:20240928T140000
END:DAYLIGHT
END:VTIMEZONE
BEGIN:VEVENT
DTSTART;TZID=Pacific/Auckland:20230701T080100
DTEND;TZID=Pacific/Auckland:20230811T235900
DTSTAMP:20260426T141237
CREATED:20230609T081938Z
LAST-MODIFIED:20230625T044537Z
UID:8432-1688198460-1691798340@brownsbay.org.nz
SUMMARY:Feast Coast Bays
DESCRIPTION:Feast Coast Bays\n\n\n\nMairangi Bay\, Browns Bay and Torbay businesses are collaborating to bring you Feast Coast Bays\, a new restaurant trail designed to incentivise people from the greater Auckland area to visit\, shop and dine at a selection of reputable restaurants in East Coast Bays.  \n\n\n\nLocal diners are encouraged to participate too. Why not pick a restaurant you have not dined at this winter and give it a go. Pick as many as you like. You can win great prizes by dining at any of the superb Feast Coast Bays eateries.  \n\n\n\n\n\n\n\n\n\nIt’s easy to participate. Dine out at any of the restaurants listed below\, spend $50 or more per table\, complete a brief entry form when you pay your bill\, attach it to your bill\, and pop it into the entry box. That’s you in the draw with a chance to WIN. \n\n\n\nThree diners will be drawn each week over the 6-week duration of the promotion to win a $100 dining voucher. There is $1\,800 of vouchers up for grabs! Then at the close of the promotion one very lucky winner will be randomly drawn from all entry forms submitted over the 6-week period to WIN a luxury weekend escape for two to Mudbrick Vineyard on Waiheke Island worth $2\,000! The grand prize has been generously sponsored by House of Travel Browns Bay.  \n\n\n\nEnter as many times as you like over the 6-week period\, but limited to one entry only per $50+ transaction. \n\n\n\nPARTICIPATING RESTAURANTS \n\n\n\n\nEl Greco Greek – Italian Restaurant\n\n\n\nPaper Moon\n\n\n\nMairangi Japanese Cuisine\n\n\n\nTaksim Turkish Kitchen & Bar\n\n\n\nLa Spiaggia Ristorante\n\n\n\nRamen Takara Japanese Noodle House Browns Bay\n\n\n\n21 Days Bar & Brasserie\n\n\n\nAsian Wok Browns Bay\n\n\n\nBrowns Bay Brewing Co. (formerly Deep Creek)\n\n\n\nBlack Antler Eatery\n\n\n\nPiatti Italiani\n\n\n\nChand Indian Restaurant Torbay\n\n\n\nLong Bay Surf Club\n\n\n\nA’ruma Malaysian\n\n\n\n\nOur thanks to Hibiscus and Bays Local Board for their generous backing of this project. \n\n\n\n\n\nGRAND PRIZE \n\n\n\nLuxury Weekend Escape package for two\, includes: \n\n\n\n\nTwo nights accommodation at Mudbrick Vineyard Cottages; \n\n\n\nThree-course dinner at Mudbrick Restaurant; and\n\n\n\nReturn ferry fares from/to Auckland City\n\n\n\n\nGrand Prize Ts&Cs:  \n\n\n\n\n Valid 11 August 2023 to 30 November 2023\, or 1 April 2024 to 30 November 2024\n\n\n\nBookings are subject to availability at the time of booking\n\n\n\nMay not be exchanged for cash \n\n\n\nBookings must be made through House of Travel Browns Bay.\n\n\n\n\n\nClick here for competition Terms & Conditions
URL:https://brownsbay.org.nz/event1/feast-coast-bays/
CATEGORIES:Community,Competitions
ATTACH;FMTTYPE=image/jpeg:https://brownsbay.org.nz/wp-content/uploads/2023/06/Banner-700x300-1.jpg
ORGANIZER;CN="Kim Murdoch":MAILTO:manager@brownsbay.org.nz
END:VEVENT
END:VCALENDAR